BEGIN:VCALENDAR
VERSION:2.0
PRODID:-//Houston Arboretum &amp; Nature Center - ECPv6.15.20//NONSGML v1.0//EN
CALSCALE:GREGORIAN
METHOD:PUBLISH
X-WR-CALNAME:Houston Arboretum &amp; Nature Center
X-ORIGINAL-URL:https://houstonarboretum.org
X-WR-CALDESC:Events for Houston Arboretum &amp; Nature Center
REFRESH-INTERVAL;VALUE=DURATION:PT1H
X-Robots-Tag:noindex
X-PUBLISHED-TTL:PT1H
BEGIN:VTIMEZONE
TZID:America/Chicago
BEGIN:DAYLIGHT
TZOFFSETFROM:-0600
TZOFFSETTO:-0500
TZNAME:CDT
DTSTART:20250309T080000
END:DAYLIGHT
BEGIN:STANDARD
TZOFFSETFROM:-0500
TZOFFSETTO:-0600
TZNAME:CST
DTSTART:20251102T070000
END:STANDARD
BEGIN:DAYLIGHT
TZOFFSETFROM:-0600
TZOFFSETTO:-0500
TZNAME:CDT
DTSTART:20260308T080000
END:DAYLIGHT
BEGIN:STANDARD
TZOFFSETFROM:-0500
TZOFFSETTO:-0600
TZNAME:CST
DTSTART:20261101T070000
END:STANDARD
BEGIN:DAYLIGHT
TZOFFSETFROM:-0600
TZOFFSETTO:-0500
TZNAME:CDT
DTSTART:20270314T080000
END:DAYLIGHT
BEGIN:STANDARD
TZOFFSETFROM:-0500
TZOFFSETTO:-0600
TZNAME:CST
DTSTART:20271107T070000
END:STANDARD
END:VTIMEZONE
BEGIN:VEVENT
DTSTART;TZID=America/Chicago:20260425T100000
DTEND;TZID=America/Chicago:20260425T120000
DTSTAMP:20260421T062528
CREATED:20231214T181325Z
LAST-MODIFIED:20251209T222744Z
UID:10000765-1777111200-1777118400@houstonarboretum.org
SUMMARY:Blackberry Celebration
DESCRIPTION:$37 member / $52 nonmemberAges 16+\, minors must be accompanied by an adult \n\n\n\nWhat’s better than making homemade jam? In this class we’re celebrating blackberry season by working together to make blackberry freezer jam. We’ll also learn about wild blackberries and (weather permitting) go on a berry-picking hike. \n\n\n\nPlease wear clothes you don’t mind getting messy and dress for the weather. \n\n\n\n\nRegister Online
URL:https://houstonarboretum.org/event/blackberry-celebration/
CATEGORIES:Adult Programs,Food & Drink
ATTACH;FMTTYPE=image/jpeg:https://houstonarboretum.org/wp-content/uploads/2023/12/Blackberry-Celebration-16x9-AdobeStock.jpg
END:VEVENT
BEGIN:VEVENT
DTSTART;TZID=America/Chicago:20260426T090000
DTEND;TZID=America/Chicago:20260426T100000
DTSTAMP:20260421T062528
CREATED:20230725T181907Z
LAST-MODIFIED:20251209T232958Z
UID:10001423-1777194000-1777197600@houstonarboretum.org
SUMMARY:Yoga on the Lawn
DESCRIPTION:Free for members / $15 nonmemberAges 16+\, minors must be accompanied by an adult \n\n\n\nJoin us for a grounding yoga practice surrounded by the beautiful sounds and sights of nature! Taught by Carolina Vennie of Yogaleena\, this class will be a Vinyasa Flow that is accessible to all levels. \n\n\n\nPlease bring your own mat and water. This class is weather dependent and pre-registration is required. \n\n\n\n\ndecember 14\n\n\n\nMarch 22\n\n\n\nApril 26\n\n\n\nMay 17\n\n\n\n\n\n\n\n\nIf the event is canceled due to the weather\, paid attendees may attend next month’s session. No refunds will be given. \n\n\n\n\n\n\n\nInstructor bio: Through Carolina Vennie’s quirky humor and playful instruction\, you will learn to strengthen your body while relaxing your mind\, increase your flexibility and freedom of movement\, and find that sweet spot between effort and ease that you can apply on and off the mat. Carolina’s teaching is influenced by years of practice in Washington D.C. studios and a deep desire to share with others the importance of self-discovery\, exploring your creativity\, trusting your intuition\, and the life-changing benefits of yoga.
URL:https://houstonarboretum.org/event/yoga-on-the-lawn/2026-04-26/
CATEGORIES:Adult Programs,Health & Wellness,Membership
ATTACH;FMTTYPE=image/jpeg:https://houstonarboretum.org/wp-content/uploads/2023/05/Yoga-on-the-Lawn-16x9-1.jpg
END:VEVENT
END:VCALENDAR