BEGIN:VCALENDAR
VERSION:2.0
PRODID:-//Houston Arboretum &amp; Nature Center - ECPv6.15.20//NONSGML v1.0//EN
CALSCALE:GREGORIAN
METHOD:PUBLISH
X-ORIGINAL-URL:https://houstonarboretum.org
X-WR-CALDESC:Events for Houston Arboretum &amp; Nature Center
REFRESH-INTERVAL;VALUE=DURATION:PT1H
X-Robots-Tag:noindex
X-PUBLISHED-TTL:PT1H
BEGIN:VTIMEZONE
TZID:America/Chicago
BEGIN:DAYLIGHT
TZOFFSETFROM:-0600
TZOFFSETTO:-0500
TZNAME:CDT
DTSTART:20240310T080000
END:DAYLIGHT
BEGIN:STANDARD
TZOFFSETFROM:-0500
TZOFFSETTO:-0600
TZNAME:CST
DTSTART:20241103T070000
END:STANDARD
BEGIN:DAYLIGHT
TZOFFSETFROM:-0600
TZOFFSETTO:-0500
TZNAME:CDT
DTSTART:20250309T080000
END:DAYLIGHT
BEGIN:STANDARD
TZOFFSETFROM:-0500
TZOFFSETTO:-0600
TZNAME:CST
DTSTART:20251102T070000
END:STANDARD
BEGIN:DAYLIGHT
TZOFFSETFROM:-0600
TZOFFSETTO:-0500
TZNAME:CDT
DTSTART:20260308T080000
END:DAYLIGHT
BEGIN:STANDARD
TZOFFSETFROM:-0500
TZOFFSETTO:-0600
TZNAME:CST
DTSTART:20261101T070000
END:STANDARD
END:VTIMEZONE
BEGIN:VEVENT
DTSTART;TZID=America/Chicago:20250507T070000
DTEND;TZID=America/Chicago:20250519T193000
DTSTAMP:20260419T073446
CREATED:20240430T205311Z
LAST-MODIFIED:20250519T180100Z
UID:10000920-1746601200-1747683000@houstonarboretum.org
SUMMARY:Goats at the Arboretum
DESCRIPTION:May 7-19\, 2025 – Departure date is subject to change. Please check back for updates.7:00 am – Dusk \n\n\n\nThe goats from Rent-A-Ruminant Texas will be back at the Arboretum this May helping us mow down invasive species and clear our woodland understory to allow for increased biodiversity! This year the goats will be with us for nearly two weeks\, splitting their time between two locations. For the first part of their visit\, you can find the goats in the the area between the Display Walk\, 610 Parking Loop\, and Ravine Trail. After about a week\, the goats will move to the area along the Inner Loop between the South Meadow Trail and Muscadine Trail. Read below for some helpful tips for viewing the goats at work! \n\n\n\nAre you an Arboretum Member? If so\, join us on Friday\, May 9 from 9:00 am – 12:00 pm for a fun\, free Members-only Meet the Mowers event! \n\n\n\n\n\n\n\n\n2025 Goat visit map\n\n\n\n\n\n\n\n\nGoat Viewing Tips\n\n\n\n\nPark at either entrance and prepare for a walk! Follow the yellow arrows along the trails directing you from the Nature Center to the goats’ current location or look at the map to plan your walk.\n\n\n\nStay on sidewalks and trails.\n\n\n\nKeep children and dogs away from the fence – it is electrified to keep predators like coyotes out of the area.\n\n\n\nDo not try to feed or pet the goats. They are helping us clear species like poison ivy\, and the oils can get on your skin.\n\n\n\nTake lots of photos – if you post them on social media\, tag @houstonarboretum so we can see them!
URL:https://houstonarboretum.org/event/goats-at-the-arboretum/
CATEGORIES:Adult Programs,Conservation,Family Programs,Goats,Nature & Wildlife,Special Events
ATTACH;FMTTYPE=image/jpeg:https://houstonarboretum.org/wp-content/uploads/2023/05/Grazing-Goats-Anthony-Rathbun-1280-x-720.jpg
END:VEVENT
BEGIN:VEVENT
DTSTART;TZID=America/Chicago:20250510T080000
DTEND;TZID=America/Chicago:20250510T100000
DTSTAMP:20260419T073446
CREATED:20231214T204640Z
LAST-MODIFIED:20251210T193150Z
UID:10000785-1746864000-1746871200@houstonarboretum.org
SUMMARY:Second Saturday Bird Survey
DESCRIPTION:Work on your bird watching skills while helping the Arboretum monitor bird populations on a fun\, relaxed morning walk. Join us on the second Saturday of each month in the courtyard behind the building for a two-hour bird survey led by Arboretum staff members\, Kelsey Low and Theo Ostler. We welcome all levels of bird watching skill and all ages (as long as you’re quiet) – but no dogs\, please! If you have binoculars of your own\, please bring them. We have a limited number of binoculars available to borrow. \n\n\n\n2nd Saturday of the month8:00 – 10:00 amFree\, but donations appreciatedInstructors: Kelsey Low & Theo OstlerMeet in front of the Nature Center building
URL:https://houstonarboretum.org/event/second-saturday-bird-survey/2025-05-10/
CATEGORIES:Adult Programs,Community Science,Nature & Wildlife,Second Saturday Bird Survey,Volunteer
ATTACH;FMTTYPE=image/jpeg:https://houstonarboretum.org/wp-content/uploads/2023/07/Birdwatchers-2-Christine-Mansfield-16.9.jpg
END:VEVENT
BEGIN:VEVENT
DTSTART;TZID=America/Chicago:20250524T190000
DTEND;TZID=America/Chicago:20250524T210000
DTSTAMP:20260419T073446
CREATED:20231214T210403Z
LAST-MODIFIED:20250513T125951Z
UID:10000830-1748113200-1748120400@houstonarboretum.org
SUMMARY:Adult Owl Prowl
DESCRIPTION:$35 member / $50 nonmemberInstructor: Wildlife Center of TexasAges 16+\, all minors must be accompanied by an adult \n\n\n\nEnjoy a unique night out in nature! Enjoy some refreshments (light snacks\, hot chocolate\, coffee\, and Saint Arnold Brewing Company beer) while you meet live owl ambassadors. You’ll learn all about these wise and wonderful birds\, and then you’ll join our Naturalists for a hike on our nighttime trails. \n\n\n\nPlease dress for the weather and wear walking shoes. \n\n\n\n\nSOLD OUT\n\n\n\n\nMiss this one? Check out our Family Owl Prowl on 5/31/2025!  \n\n\n\n\nFamily Owl Prowl\n\n\n\n\n\n\n\n\nInstructor bio: The Wildlife Center of Texas is one of the largest rehabilitation centers in the country\, admitting nearly 10\,000 wild patients each year. Its mission is to care for all injured\, orphaned\, ill\, and oiled wildlife through wildlife rehabilitation\, public education\, and oiled wildlife response.
URL:https://houstonarboretum.org/event/adult-owl-prowl-may/
CATEGORIES:Adult Programs,Nature & Wildlife
ATTACH;FMTTYPE=image/jpeg:https://houstonarboretum.org/wp-content/uploads/2023/12/Adult-Owl-Prowl-16x9-AdobeStock.jpg
END:VEVENT
END:VCALENDAR