BEGIN:VCALENDAR
VERSION:2.0
PRODID:-//Houston Arboretum &amp; Nature Center - ECPv6.15.20//NONSGML v1.0//EN
CALSCALE:GREGORIAN
METHOD:PUBLISH
X-ORIGINAL-URL:https://houstonarboretum.org
X-WR-CALDESC:Events for Houston Arboretum &amp; Nature Center
REFRESH-INTERVAL;VALUE=DURATION:PT1H
X-Robots-Tag:noindex
X-PUBLISHED-TTL:PT1H
BEGIN:VTIMEZONE
TZID:America/Chicago
BEGIN:DAYLIGHT
TZOFFSETFROM:-0600
TZOFFSETTO:-0500
TZNAME:CDT
DTSTART:20250309T080000
END:DAYLIGHT
BEGIN:STANDARD
TZOFFSETFROM:-0500
TZOFFSETTO:-0600
TZNAME:CST
DTSTART:20251102T070000
END:STANDARD
BEGIN:DAYLIGHT
TZOFFSETFROM:-0600
TZOFFSETTO:-0500
TZNAME:CDT
DTSTART:20260308T080000
END:DAYLIGHT
BEGIN:STANDARD
TZOFFSETFROM:-0500
TZOFFSETTO:-0600
TZNAME:CST
DTSTART:20261101T070000
END:STANDARD
BEGIN:DAYLIGHT
TZOFFSETFROM:-0600
TZOFFSETTO:-0500
TZNAME:CDT
DTSTART:20270314T080000
END:DAYLIGHT
BEGIN:STANDARD
TZOFFSETFROM:-0500
TZOFFSETTO:-0600
TZNAME:CST
DTSTART:20271107T070000
END:STANDARD
END:VTIMEZONE
BEGIN:VEVENT
DTSTART;TZID=America/Chicago:20260509T080000
DTEND;TZID=America/Chicago:20260509T100000
DTSTAMP:20260421T055437
CREATED:20231214T204640Z
LAST-MODIFIED:20251210T193150Z
UID:10000797-1778313600-1778320800@houstonarboretum.org
SUMMARY:Second Saturday Bird Survey
DESCRIPTION:Work on your bird watching skills while helping the Arboretum monitor bird populations on a fun\, relaxed morning walk. Join us on the second Saturday of each month in the courtyard behind the building for a two-hour bird survey led by Arboretum staff members\, Kelsey Low and Theo Ostler. We welcome all levels of bird watching skill and all ages (as long as you’re quiet) – but no dogs\, please! If you have binoculars of your own\, please bring them. We have a limited number of binoculars available to borrow. \n\n\n\n2nd Saturday of the month8:00 – 10:00 amFree\, but donations appreciatedInstructors: Kelsey Low & Theo OstlerMeet in front of the Nature Center building
URL:https://houstonarboretum.org/event/second-saturday-bird-survey/2026-05-09/
CATEGORIES:Adult Programs,Community Science,Nature & Wildlife,Second Saturday Bird Survey,Volunteer
ATTACH;FMTTYPE=image/jpeg:https://houstonarboretum.org/wp-content/uploads/2023/07/Birdwatchers-2-Christine-Mansfield-16.9.jpg
END:VEVENT
BEGIN:VEVENT
DTSTART;TZID=America/Chicago:20260509T100000
DTEND;TZID=America/Chicago:20260509T104500
DTSTAMP:20260421T055437
CREATED:20240702T163043Z
LAST-MODIFIED:20251211T195542Z
UID:10001459-1778320800-1778323500@houstonarboretum.org
SUMMARY:Guided Nature Hikes
DESCRIPTION:Select Saturdays (weather permitting)10:00 am – 10:45 am and 11:00 am – 11:45 amFreeAll ages\, minors must be accompanied by an adultHikes are limited to 20 spots on a first come\, first served basis. \n\n\n\nPlease meet at the Information signage located between the 610 Parking Loop and the Nature Center Building. \n\n\n\nVenture out with an Arboretum Guide for a hike through the Houston Arboretum. Explore our ecosystems to learn about the local wildlife\, plants\, and natural history of our beautiful nature center. Hikes will vary but expect to spend 40-45 minutes on the trail. Hikes are free to the public and are first come\, first served.  \n\n\n\nPlease come prepared for the outdoors. Closed toe shoes\, a water bottle\, weather-appropriate hiking attire\, and bug spray are recommended. \n\n\n\nupcoming hikes\n\n\n\nThe December 13 Guided Nature Hike has been cancelled. Please join us for another hike in 2026. \n\n\n\n\n\nEnglish \n\n\n\nJanuary 10February 21March 14April 4May 9 \n\n\n\n\n\nEspañol \n\n\n\nJanuary 31February 28March 21April 11May 16 \n\n\n\n\n\nNo groups\, please. Groups can book a Private Group Tour during the week\, and Scout Groups can visit our Girl Scout and Boy Scout pages to book a private opportunity. \n\n\n\n\nGuided Nature Hikes en español
URL:https://houstonarboretum.org/event/guided-nature-hikes/2026-05-09/1/
CATEGORIES:Adult Programs,Family Programs,Nature & Wildlife
ATTACH;FMTTYPE=image/jpeg:https://houstonarboretum.org/wp-content/uploads/2024/07/Guided-Nature-Hike-16x9-1.jpg
END:VEVENT
BEGIN:VEVENT
DTSTART;TZID=America/Chicago:20260509T103000
DTEND;TZID=America/Chicago:20260509T123000
DTSTAMP:20260421T055437
CREATED:20251209T233923Z
LAST-MODIFIED:20260326T181042Z
UID:10001425-1778322600-1778329800@houstonarboretum.org
SUMMARY:Mycology 101
DESCRIPTION:$22 member / $37 nonmember (per person)Ages 12+\, minors must be accompanied by an adult \n\n\n\nCurious about the mysterious world of mushrooms? Join Jeremy Even-Flint for an introduction to fungi\, including key tips\, tricks\, and visual cues to help confidently recognize common mushrooms in the wild. \n\n\n\nPlease dress for the weather and wear walking shoes. \n\n\n\n\nsold out\n\n\n\n\n\n\n\n\nInstructor bio: Jeremy Even-Flint is a self-confessed mycophile and co-author of the “Mushroom Lovers Adult Coloring Book.” A biology student at Houston Community College\, he is also an active member of the Central Texas Mycological Society and is committed to sharing the joy of fungi with the world through books\, classes\, and social media.
URL:https://houstonarboretum.org/event/mycology-101/
CATEGORIES:Adult Programs,Nature & Wildlife
ATTACH;FMTTYPE=image/jpeg:https://houstonarboretum.org/wp-content/uploads/2025/12/Red-chanterelle-Cantharellus-cinnabarinus-side.jpg
END:VEVENT
BEGIN:VEVENT
DTSTART;TZID=America/Chicago:20260509T110000
DTEND;TZID=America/Chicago:20260509T114500
DTSTAMP:20260421T055437
CREATED:20240702T163043Z
LAST-MODIFIED:20251211T195542Z
UID:10001460-1778324400-1778327100@houstonarboretum.org
SUMMARY:Guided Nature Hikes
DESCRIPTION:Select Saturdays (weather permitting)10:00 am – 10:45 am and 11:00 am – 11:45 amFreeAll ages\, minors must be accompanied by an adultHikes are limited to 20 spots on a first come\, first served basis. \n\n\n\nPlease meet at the Information signage located between the 610 Parking Loop and the Nature Center Building. \n\n\n\nVenture out with an Arboretum Guide for a hike through the Houston Arboretum. Explore our ecosystems to learn about the local wildlife\, plants\, and natural history of our beautiful nature center. Hikes will vary but expect to spend 40-45 minutes on the trail. Hikes are free to the public and are first come\, first served.  \n\n\n\nPlease come prepared for the outdoors. Closed toe shoes\, a water bottle\, weather-appropriate hiking attire\, and bug spray are recommended. \n\n\n\nupcoming hikes\n\n\n\nThe December 13 Guided Nature Hike has been cancelled. Please join us for another hike in 2026. \n\n\n\n\n\nEnglish \n\n\n\nJanuary 10February 21March 14April 4May 9 \n\n\n\n\n\nEspañol \n\n\n\nJanuary 31February 28March 21April 11May 16 \n\n\n\n\n\nNo groups\, please. Groups can book a Private Group Tour during the week\, and Scout Groups can visit our Girl Scout and Boy Scout pages to book a private opportunity. \n\n\n\n\nGuided Nature Hikes en español
URL:https://houstonarboretum.org/event/guided-nature-hikes/2026-05-09/2/
CATEGORIES:Adult Programs,Family Programs,Nature & Wildlife
ATTACH;FMTTYPE=image/jpeg:https://houstonarboretum.org/wp-content/uploads/2024/07/Guided-Nature-Hike-16x9-1.jpg
END:VEVENT
BEGIN:VEVENT
DTSTART;TZID=America/Chicago:20260516T090000
DTEND;TZID=America/Chicago:20260516T103000
DTSTAMP:20260421T055437
CREATED:20251208T214142Z
LAST-MODIFIED:20251208T214159Z
UID:10001408-1778922000-1778927400@houstonarboretum.org
SUMMARY:Hawk Walk
DESCRIPTION:9:00-10:30 am11:00 am -12:30 pm1:00-2:30 pm \n\n\n\n$37 members / $52 nonmembers / $22 children ages 5-12Ages 5+; minors must be accompanied by an adult \n\n\n\nExperience the beautiful and thrilling world of birds of prey! See birds like hawks\, owls\, and vultures as they perch\, fly\, and demonstrate their incredible adaptations. Learn how raptors use their skills to survive and how you can help these amazing animals. We hope to hold this presentation outdoors\, but if weather is inclement\, we’ll stay inside. \n\n\n\n\nregister online\n\n\n\n\n\n\n\n\nPlease dress for the weather and wear walking shoes. Event is rain or shine and will be held indoors if the weather is poor.
URL:https://houstonarboretum.org/event/hawk-walk/2026-05-16/1/
CATEGORIES:Adult Programs,Family Programs,Nature & Wildlife,Special Events
ATTACH;FMTTYPE=image/jpeg:https://houstonarboretum.org/wp-content/uploads/2025/12/Falconer-with-Hawk.jpg
END:VEVENT
BEGIN:VEVENT
DTSTART;TZID=America/Chicago:20260516T100000
DTEND;TZID=America/Chicago:20260516T104500
DTSTAMP:20260421T055437
CREATED:20240702T164206Z
LAST-MODIFIED:20251211T195901Z
UID:10001449-1778925600-1778928300@houstonarboretum.org
SUMMARY:Guided Nature Hikes en español
DESCRIPTION:Sábados selectos (clima permitiendo)10:00 am – 10:45 am y 11:00 am – 11:45 amGratisPara todas edades. Los menores de edad deben ir acompañados de un adulto.Las caminatas están limitadas a 20 lugares por orden de llegada. \n\n\n\nEl punto de reunión es en el letrero informativo que está entre el estacionamiento del lado de la Interestatal 610 y el edificio del Centro de la Naturaleza. \n\n\n\nExplora con nosotros en una caminata por el Arboreto. ¡Aprenda sobre la naturaleza\, las plantas y la historia de nuestro hermoso centro natural con un guía! Las caminatas variarán\, pero espere pasar entre 40 y 45 minutos en el sendero. Las caminatas son gratuitas para el público y se otorgan por orden de llegada. \n\n\n\nVenga preparado para estar en el aire libre (se recomiendan zapatos cerrados\, una botella de agua\, repelente de insectos\, etc.). \n\n\n\nCaminata Guiada\n\n\n\nLa Caminata Guiada del 13 de diciembre ha sido cancelada. Por favor acompáñenos en otra caminata en 2026. \n\n\n\n\n\nInglés \n\n\n\nEnero 10Febrero 21Marzo 14Abril 4Mayo 9 \n\n\n\n\n\nEspañol \n\n\n\nEnero 31Febrero 28Marzo 21Abril 11Mayo16 \n\n\n\n\n\nNo se permiten grupos. Los grupos interesados ​​en reservar un tour privado durante la semana pueden comunicarse con Kelsey Low.   \n\n\n\n\nGuided Nature Hikes in english
URL:https://houstonarboretum.org/event/guided-nature-hikes-en-espanol/2026-05-16/1/
CATEGORIES:Adult Programs,En español,Family Programs,Nature & Wildlife
ATTACH;FMTTYPE=image/jpeg:https://houstonarboretum.org/wp-content/uploads/2024/07/Guided-Nature-Hike-16x9-1.jpg
END:VEVENT
BEGIN:VEVENT
DTSTART;TZID=America/Chicago:20260516T110000
DTEND;TZID=America/Chicago:20260516T114500
DTSTAMP:20260421T055437
CREATED:20240702T164206Z
LAST-MODIFIED:20251211T195901Z
UID:10001450-1778929200-1778931900@houstonarboretum.org
SUMMARY:Guided Nature Hikes en español
DESCRIPTION:Sábados selectos (clima permitiendo)10:00 am – 10:45 am y 11:00 am – 11:45 amGratisPara todas edades. Los menores de edad deben ir acompañados de un adulto.Las caminatas están limitadas a 20 lugares por orden de llegada. \n\n\n\nEl punto de reunión es en el letrero informativo que está entre el estacionamiento del lado de la Interestatal 610 y el edificio del Centro de la Naturaleza. \n\n\n\nExplora con nosotros en una caminata por el Arboreto. ¡Aprenda sobre la naturaleza\, las plantas y la historia de nuestro hermoso centro natural con un guía! Las caminatas variarán\, pero espere pasar entre 40 y 45 minutos en el sendero. Las caminatas son gratuitas para el público y se otorgan por orden de llegada. \n\n\n\nVenga preparado para estar en el aire libre (se recomiendan zapatos cerrados\, una botella de agua\, repelente de insectos\, etc.). \n\n\n\nCaminata Guiada\n\n\n\nLa Caminata Guiada del 13 de diciembre ha sido cancelada. Por favor acompáñenos en otra caminata en 2026. \n\n\n\n\n\nInglés \n\n\n\nEnero 10Febrero 21Marzo 14Abril 4Mayo 9 \n\n\n\n\n\nEspañol \n\n\n\nEnero 31Febrero 28Marzo 21Abril 11Mayo16 \n\n\n\n\n\nNo se permiten grupos. Los grupos interesados ​​en reservar un tour privado durante la semana pueden comunicarse con Kelsey Low.   \n\n\n\n\nGuided Nature Hikes in english
URL:https://houstonarboretum.org/event/guided-nature-hikes-en-espanol/2026-05-16/2/
CATEGORIES:Adult Programs,En español,Family Programs,Nature & Wildlife
ATTACH;FMTTYPE=image/jpeg:https://houstonarboretum.org/wp-content/uploads/2024/07/Guided-Nature-Hike-16x9-1.jpg
END:VEVENT
BEGIN:VEVENT
DTSTART;TZID=America/Chicago:20260516T110000
DTEND;TZID=America/Chicago:20260516T123000
DTSTAMP:20260421T055437
CREATED:20251208T214142Z
LAST-MODIFIED:20251208T214159Z
UID:10001409-1778929200-1778934600@houstonarboretum.org
SUMMARY:Hawk Walk
DESCRIPTION:9:00-10:30 am11:00 am -12:30 pm1:00-2:30 pm \n\n\n\n$37 members / $52 nonmembers / $22 children ages 5-12Ages 5+; minors must be accompanied by an adult \n\n\n\nExperience the beautiful and thrilling world of birds of prey! See birds like hawks\, owls\, and vultures as they perch\, fly\, and demonstrate their incredible adaptations. Learn how raptors use their skills to survive and how you can help these amazing animals. We hope to hold this presentation outdoors\, but if weather is inclement\, we’ll stay inside. \n\n\n\n\nregister online\n\n\n\n\n\n\n\n\nPlease dress for the weather and wear walking shoes. Event is rain or shine and will be held indoors if the weather is poor.
URL:https://houstonarboretum.org/event/hawk-walk/2026-05-16/2/
CATEGORIES:Adult Programs,Family Programs,Nature & Wildlife,Special Events
ATTACH;FMTTYPE=image/jpeg:https://houstonarboretum.org/wp-content/uploads/2025/12/Falconer-with-Hawk.jpg
END:VEVENT
BEGIN:VEVENT
DTSTART;TZID=America/Chicago:20260516T130000
DTEND;TZID=America/Chicago:20260516T143000
DTSTAMP:20260421T055437
CREATED:20251208T214142Z
LAST-MODIFIED:20251208T214159Z
UID:10001410-1778936400-1778941800@houstonarboretum.org
SUMMARY:Hawk Walk
DESCRIPTION:9:00-10:30 am11:00 am -12:30 pm1:00-2:30 pm \n\n\n\n$37 members / $52 nonmembers / $22 children ages 5-12Ages 5+; minors must be accompanied by an adult \n\n\n\nExperience the beautiful and thrilling world of birds of prey! See birds like hawks\, owls\, and vultures as they perch\, fly\, and demonstrate their incredible adaptations. Learn how raptors use their skills to survive and how you can help these amazing animals. We hope to hold this presentation outdoors\, but if weather is inclement\, we’ll stay inside. \n\n\n\n\nregister online\n\n\n\n\n\n\n\n\nPlease dress for the weather and wear walking shoes. Event is rain or shine and will be held indoors if the weather is poor.
URL:https://houstonarboretum.org/event/hawk-walk/2026-05-16/3/
CATEGORIES:Adult Programs,Family Programs,Nature & Wildlife,Special Events
ATTACH;FMTTYPE=image/jpeg:https://houstonarboretum.org/wp-content/uploads/2025/12/Falconer-with-Hawk.jpg
END:VEVENT
BEGIN:VEVENT
DTSTART;TZID=America/Chicago:20260523T093000
DTEND;TZID=America/Chicago:20260523T113000
DTSTAMP:20260421T055437
CREATED:20251209T234400Z
LAST-MODIFIED:20251209T234421Z
UID:10001426-1779528600-1779535800@houstonarboretum.org
SUMMARY:Birding by Ear
DESCRIPTION:$22 member / $37 nonmemberAges 12+\, all minors must be accompanied by an adult \n\n\n\nBird watching can be very frustrating: birds can be tiny\, fast\, and love to hide. You should try bird LISTENING instead! In this class we’ll get a quick classroom introduction to birding by ear and then head out on the trails to practice our listening skills. We’ll focus on common birds and ways to describe and even “draw” sounds so you can look them up later! \n\n\n\nPlease dress for the weather and wear walking shoes. \n\n\n\n\nregister online
URL:https://houstonarboretum.org/event/birding-by-ear/
CATEGORIES:Adult Programs,Nature & Wildlife
ATTACH;FMTTYPE=image/jpeg:https://houstonarboretum.org/wp-content/uploads/2025/12/Carolina-wren-songJLigg.jpg
END:VEVENT
END:VCALENDAR