BEGIN:VCALENDAR
VERSION:2.0
PRODID:-//Houston Arboretum &amp; Nature Center - ECPv6.15.20//NONSGML v1.0//EN
CALSCALE:GREGORIAN
METHOD:PUBLISH
X-WR-CALNAME:Houston Arboretum &amp; Nature Center
X-ORIGINAL-URL:https://houstonarboretum.org
X-WR-CALDESC:Events for Houston Arboretum &amp; Nature Center
REFRESH-INTERVAL;VALUE=DURATION:PT1H
X-Robots-Tag:noindex
X-PUBLISHED-TTL:PT1H
BEGIN:VTIMEZONE
TZID:America/Chicago
BEGIN:DAYLIGHT
TZOFFSETFROM:-0600
TZOFFSETTO:-0500
TZNAME:CDT
DTSTART:20220313T080000
END:DAYLIGHT
BEGIN:STANDARD
TZOFFSETFROM:-0500
TZOFFSETTO:-0600
TZNAME:CST
DTSTART:20221106T070000
END:STANDARD
BEGIN:DAYLIGHT
TZOFFSETFROM:-0600
TZOFFSETTO:-0500
TZNAME:CDT
DTSTART:20230312T080000
END:DAYLIGHT
BEGIN:STANDARD
TZOFFSETFROM:-0500
TZOFFSETTO:-0600
TZNAME:CST
DTSTART:20231105T070000
END:STANDARD
BEGIN:DAYLIGHT
TZOFFSETFROM:-0600
TZOFFSETTO:-0500
TZNAME:CDT
DTSTART:20240310T080000
END:DAYLIGHT
BEGIN:STANDARD
TZOFFSETFROM:-0500
TZOFFSETTO:-0600
TZNAME:CST
DTSTART:20241103T070000
END:STANDARD
END:VTIMEZONE
BEGIN:VEVENT
DTSTART;TZID=America/Chicago:20230511T180000
DTEND;TZID=America/Chicago:20230511T200000
DTSTAMP:20260425T061832
CREATED:20230511T234323Z
LAST-MODIFIED:20230515T194316Z
UID:10000569-1683828000-1683835200@houstonarboretum.org
SUMMARY:Wetland Happy Hour Hike
DESCRIPTION:FREE for Evergreen Members / $20 nonmemberInstructor: Kelsey Low and Christine MansfieldAges 21 and up \n\n\n\nUnwind after a hard day with a walk in the wild! Join us for a fun\, relaxed stroll through our wetlands and enjoy some Saint Arnold Brewing Company beer. We’ll explore swamp and pond ecosystems by using dip nets to get a closer look at wetland critters. \n\n\n\nThis hike has SOLD OUT. For more Evergreen fun\, click the button! \n\n\n\n\nUpcoming Evergreen Events\n\n\n\n\nThis event will take place outdoors rain or shine. Please dress for the weather and wear walking shoes.
URL:https://houstonarboretum.org/event/wetland-happy-hour-hike/
CATEGORIES:Young Professionals
ATTACH;FMTTYPE=image/jpeg:https://houstonarboretum.org/wp-content/uploads/2023/05/Cypress-Pond-Event-Lawn-Anthony-Rathbun.jpg
END:VEVENT
END:VCALENDAR