BEGIN:VCALENDAR
VERSION:2.0
PRODID:-//Houston Arboretum &amp; Nature Center - ECPv6.15.20//NONSGML v1.0//EN
CALSCALE:GREGORIAN
METHOD:PUBLISH
X-ORIGINAL-URL:https://houstonarboretum.org
X-WR-CALDESC:Events for Houston Arboretum &amp; Nature Center
REFRESH-INTERVAL;VALUE=DURATION:PT1H
X-Robots-Tag:noindex
X-PUBLISHED-TTL:PT1H
BEGIN:VTIMEZONE
TZID:America/Chicago
BEGIN:DAYLIGHT
TZOFFSETFROM:-0600
TZOFFSETTO:-0500
TZNAME:CDT
DTSTART:20200308T080000
END:DAYLIGHT
BEGIN:STANDARD
TZOFFSETFROM:-0500
TZOFFSETTO:-0600
TZNAME:CST
DTSTART:20201101T070000
END:STANDARD
BEGIN:DAYLIGHT
TZOFFSETFROM:-0600
TZOFFSETTO:-0500
TZNAME:CDT
DTSTART:20210314T080000
END:DAYLIGHT
BEGIN:STANDARD
TZOFFSETFROM:-0500
TZOFFSETTO:-0600
TZNAME:CST
DTSTART:20211107T070000
END:STANDARD
BEGIN:DAYLIGHT
TZOFFSETFROM:-0600
TZOFFSETTO:-0500
TZNAME:CDT
DTSTART:20220313T080000
END:DAYLIGHT
BEGIN:STANDARD
TZOFFSETFROM:-0500
TZOFFSETTO:-0600
TZNAME:CST
DTSTART:20221106T070000
END:STANDARD
BEGIN:DAYLIGHT
TZOFFSETFROM:-0600
TZOFFSETTO:-0500
TZNAME:CDT
DTSTART:20230312T080000
END:DAYLIGHT
BEGIN:STANDARD
TZOFFSETFROM:-0500
TZOFFSETTO:-0600
TZNAME:CST
DTSTART:20231105T070000
END:STANDARD
BEGIN:DAYLIGHT
TZOFFSETFROM:-0600
TZOFFSETTO:-0500
TZNAME:CDT
DTSTART:20240310T080000
END:DAYLIGHT
BEGIN:STANDARD
TZOFFSETFROM:-0500
TZOFFSETTO:-0600
TZNAME:CST
DTSTART:20241103T070000
END:STANDARD
BEGIN:DAYLIGHT
TZOFFSETFROM:-0600
TZOFFSETTO:-0500
TZNAME:CDT
DTSTART:20250309T080000
END:DAYLIGHT
BEGIN:STANDARD
TZOFFSETFROM:-0500
TZOFFSETTO:-0600
TZNAME:CST
DTSTART:20251102T070000
END:STANDARD
BEGIN:DAYLIGHT
TZOFFSETFROM:-0600
TZOFFSETTO:-0500
TZNAME:CDT
DTSTART:20260308T080000
END:DAYLIGHT
BEGIN:STANDARD
TZOFFSETFROM:-0500
TZOFFSETTO:-0600
TZNAME:CST
DTSTART:20261101T070000
END:STANDARD
END:VTIMEZONE
BEGIN:VEVENT
DTSTART;TZID=America/Chicago:20251208T103000
DTEND;TZID=America/Chicago:20251208T111500
DTSTAMP:20260421T032231
CREATED:20240701T180347Z
LAST-MODIFIED:20260123T223025Z
UID:10001305-1765189800-1765192500@houstonarboretum.org
SUMMARY:Tyke Hikes
DESCRIPTION:For children 18 months – 4 years\n\n\n\n\n\nEncourage your child’s curiosity about nature and spend time with them exploring outdoors! Children with an adult companion can join a naturalist for a story reading\, a simple nature or sensory development activity\, and a stroller-friendly hike on the beautiful Arboretum trails. Arrive dressed in close-toed shoes and comfortable play clothes. Be prepared for the weather including hat\, sunscreen\, jackets\, raincoat\, or rain boots\, as needed. \n\n\n\nSelect Mondays9:30 am-10:15 am10:30 am-11:15 am \n\n\n\n\n\n\n\npricing\n\n\n\nFree for Family Tree Members and above (please have member card on hand)$7 per child for nonmembers\, pay at the door (18 months and up; younger siblings welcome) \n\n\n\nNo registration necessary\, however admittance will be limited to 20 children per session. Registration will be held in front of Beautyberry Classroom. Doors will close 15 minutes after starting class or when the sign up is full. Siblings older than 4 years may not participate in the sensory activity. \n\n\n\n\n\n\n\n\n\nupcoming hikes\n\n\n\nTyke Hikes on January 26\, 2026 have been canceled.  \n\n\n\nJanuary 12\, 19\, 26February 2\, 9\, 23March 16\, 23\, 30April 6\, 13\, 20May 4\, 11\, 18 \n\n\n\n\n\n\n\n\nTYKE HIKES EN ESPAÑOL!\n\n\n\n\nIs your child wild about nature? The Arboretum is the natural place to celebrate a birthday.
URL:https://houstonarboretum.org/event/tyke-hikes/2025-12-08/2/
CATEGORIES:Children’s Programs,Preschool
ATTACH;FMTTYPE=image/jpeg:https://houstonarboretum.org/wp-content/uploads/2024/07/Tyke-Hike-Arrowwood-Pond-16x9-1.jpg
END:VEVENT
BEGIN:VEVENT
DTSTART;TZID=America/Chicago:20251208T093000
DTEND;TZID=America/Chicago:20251208T101500
DTSTAMP:20260421T032231
CREATED:20240701T180347Z
LAST-MODIFIED:20260123T223025Z
UID:10001304-1765186200-1765188900@houstonarboretum.org
SUMMARY:Tyke Hikes
DESCRIPTION:For children 18 months – 4 years\n\n\n\n\n\nEncourage your child’s curiosity about nature and spend time with them exploring outdoors! Children with an adult companion can join a naturalist for a story reading\, a simple nature or sensory development activity\, and a stroller-friendly hike on the beautiful Arboretum trails. Arrive dressed in close-toed shoes and comfortable play clothes. Be prepared for the weather including hat\, sunscreen\, jackets\, raincoat\, or rain boots\, as needed. \n\n\n\nSelect Mondays9:30 am-10:15 am10:30 am-11:15 am \n\n\n\n\n\n\n\npricing\n\n\n\nFree for Family Tree Members and above (please have member card on hand)$7 per child for nonmembers\, pay at the door (18 months and up; younger siblings welcome) \n\n\n\nNo registration necessary\, however admittance will be limited to 20 children per session. Registration will be held in front of Beautyberry Classroom. Doors will close 15 minutes after starting class or when the sign up is full. Siblings older than 4 years may not participate in the sensory activity. \n\n\n\n\n\n\n\n\n\nupcoming hikes\n\n\n\nTyke Hikes on January 26\, 2026 have been canceled.  \n\n\n\nJanuary 12\, 19\, 26February 2\, 9\, 23March 16\, 23\, 30April 6\, 13\, 20May 4\, 11\, 18 \n\n\n\n\n\n\n\n\nTYKE HIKES EN ESPAÑOL!\n\n\n\n\nIs your child wild about nature? The Arboretum is the natural place to celebrate a birthday.
URL:https://houstonarboretum.org/event/tyke-hikes/2025-12-08/1/
CATEGORIES:Children’s Programs,Preschool
ATTACH;FMTTYPE=image/jpeg:https://houstonarboretum.org/wp-content/uploads/2024/07/Tyke-Hike-Arrowwood-Pond-16x9-1.jpg
END:VEVENT
BEGIN:VEVENT
DTSTART;TZID=America/Chicago:20250908T103000
DTEND;TZID=America/Chicago:20250908T111500
DTSTAMP:20260421T032231
CREATED:20240701T180347Z
LAST-MODIFIED:20260123T223025Z
UID:10001285-1757327400-1757330100@houstonarboretum.org
SUMMARY:Tyke Hikes
DESCRIPTION:For children 18 months – 4 years\n\n\n\n\n\nEncourage your child’s curiosity about nature and spend time with them exploring outdoors! Children with an adult companion can join a naturalist for a story reading\, a simple nature or sensory development activity\, and a stroller-friendly hike on the beautiful Arboretum trails. Arrive dressed in close-toed shoes and comfortable play clothes. Be prepared for the weather including hat\, sunscreen\, jackets\, raincoat\, or rain boots\, as needed. \n\n\n\nSelect Mondays9:30 am-10:15 am10:30 am-11:15 am \n\n\n\n\n\n\n\npricing\n\n\n\nFree for Family Tree Members and above (please have member card on hand)$7 per child for nonmembers\, pay at the door (18 months and up; younger siblings welcome) \n\n\n\nNo registration necessary\, however admittance will be limited to 20 children per session. Registration will be held in front of Beautyberry Classroom. Doors will close 15 minutes after starting class or when the sign up is full. Siblings older than 4 years may not participate in the sensory activity. \n\n\n\n\n\n\n\n\n\nupcoming hikes\n\n\n\nTyke Hikes on January 26\, 2026 have been canceled.  \n\n\n\nJanuary 12\, 19\, 26February 2\, 9\, 23March 16\, 23\, 30April 6\, 13\, 20May 4\, 11\, 18 \n\n\n\n\n\n\n\n\nTYKE HIKES EN ESPAÑOL!\n\n\n\n\nIs your child wild about nature? The Arboretum is the natural place to celebrate a birthday.
URL:https://houstonarboretum.org/event/tyke-hikes/2025-09-08/2/
CATEGORIES:Children’s Programs,Preschool
ATTACH;FMTTYPE=image/jpeg:https://houstonarboretum.org/wp-content/uploads/2024/07/Tyke-Hike-Arrowwood-Pond-16x9-1.jpg
END:VEVENT
BEGIN:VEVENT
DTSTART;TZID=America/Chicago:20250908T093000
DTEND;TZID=America/Chicago:20250908T101500
DTSTAMP:20260421T032231
CREATED:20240701T180347Z
LAST-MODIFIED:20260123T223025Z
UID:10001284-1757323800-1757326500@houstonarboretum.org
SUMMARY:Tyke Hikes
DESCRIPTION:For children 18 months – 4 years\n\n\n\n\n\nEncourage your child’s curiosity about nature and spend time with them exploring outdoors! Children with an adult companion can join a naturalist for a story reading\, a simple nature or sensory development activity\, and a stroller-friendly hike on the beautiful Arboretum trails. Arrive dressed in close-toed shoes and comfortable play clothes. Be prepared for the weather including hat\, sunscreen\, jackets\, raincoat\, or rain boots\, as needed. \n\n\n\nSelect Mondays9:30 am-10:15 am10:30 am-11:15 am \n\n\n\n\n\n\n\npricing\n\n\n\nFree for Family Tree Members and above (please have member card on hand)$7 per child for nonmembers\, pay at the door (18 months and up; younger siblings welcome) \n\n\n\nNo registration necessary\, however admittance will be limited to 20 children per session. Registration will be held in front of Beautyberry Classroom. Doors will close 15 minutes after starting class or when the sign up is full. Siblings older than 4 years may not participate in the sensory activity. \n\n\n\n\n\n\n\n\n\nupcoming hikes\n\n\n\nTyke Hikes on January 26\, 2026 have been canceled.  \n\n\n\nJanuary 12\, 19\, 26February 2\, 9\, 23March 16\, 23\, 30April 6\, 13\, 20May 4\, 11\, 18 \n\n\n\n\n\n\n\n\nTYKE HIKES EN ESPAÑOL!\n\n\n\n\nIs your child wild about nature? The Arboretum is the natural place to celebrate a birthday.
URL:https://houstonarboretum.org/event/tyke-hikes/2025-09-08/1/
CATEGORIES:Children’s Programs,Preschool
ATTACH;FMTTYPE=image/jpeg:https://houstonarboretum.org/wp-content/uploads/2024/07/Tyke-Hike-Arrowwood-Pond-16x9-1.jpg
END:VEVENT
BEGIN:VEVENT
DTSTART;TZID=America/Chicago:20240504T100000
DTEND;TZID=America/Chicago:20240504T120000
DTSTAMP:20260421T032231
CREATED:20231130T214239Z
LAST-MODIFIED:20231130T214241Z
UID:10000751-1714816800-1714824000@houstonarboretum.org
SUMMARY:Mythical Creatures
DESCRIPTION:$20 member / $30 nonmemberInstructor: Patti BonninAges 7-12 \n\n\n\nBigfoot\, Griffins\, Jackalope\, Unicorns…who is your favorite cryptid? Join fellow Cryptozoologists as we study real fantastical creatures that dwell here at the Arboretum and compare them to the mythical beasts lurking just beyond the shadows. We will learn about folklore\, adaptations\, and even create our own Mythical Creature! \n\n\n\nPlease come dressed for the out of doors\, including closed-toe shoes. This is a drop-off class. Parents and siblings are welcome to explore the Arboretum’s grounds on their own. \n\n\n\nRegistration for Arboretum Members opens Tuesday\, December 5. Nonmember registration opens Tuesday\, December 12. \n\n\n\n\nregister online
URL:https://houstonarboretum.org/event/mythical-creatures/
CATEGORIES:Children’s Programs
ATTACH;FMTTYPE=image/jpeg:https://houstonarboretum.org/wp-content/uploads/2023/07/Woodland-Wizards.jpg
END:VEVENT
BEGIN:VEVENT
DTSTART;TZID=America/Chicago:20231202T160000
DTEND;TZID=America/Chicago:20231202T180000
DTSTAMP:20260421T032231
CREATED:20230726T211734Z
LAST-MODIFIED:20230911T130750Z
UID:10000712-1701532800-1701540000@houstonarboretum.org
SUMMARY:Woodland Wizards
DESCRIPTION:$20 member / $30 nonmemberInstructor: Patti BonninAges 5-10 \n\n\n\nWe are pleased to inform you that you are invited to attend the Arboretum’s School of Woodland Wizardry! Study magical creatures\, decorate your own wand\, make a batch of butterbeer (kid-friendly!)\, and practice your potions. Then join Professor Patti on a scavenger hunt through the Forbidden Forest. Come dressed as your favorite witch\, wizard\, or muggle! (Costumes encouraged but not required.) \n\n\n\nPlease come dressed for the out of doors\, including closed-toe shoes. This is a drop-off class. Parents and siblings are welcome to explore the Arboretum’s grounds on their own. \n\n\n\nRegistration for Arboretum Members opens Tuesday\, August 8. Nonmember registration opens Tuesday\, August 15. \n\n\n\n\nsold out
URL:https://houstonarboretum.org/event/woodland-wizards/
CATEGORIES:Children’s Programs
ATTACH;FMTTYPE=image/jpeg:https://houstonarboretum.org/wp-content/uploads/2023/07/Woodland-Wizards.jpg
END:VEVENT
BEGIN:VEVENT
DTSTART;TZID=America/Chicago:20231104T140000
DTEND;TZID=America/Chicago:20231104T160000
DTSTAMP:20260421T032231
CREATED:20230726T210515Z
LAST-MODIFIED:20231102T202212Z
UID:10000711-1699106400-1699113600@houstonarboretum.org
SUMMARY:CSI: Mystery on the Trails
DESCRIPTION:$20 member / $30 nonmemberInstructor: Patti BonninAges 7-12 \n\n\n\nMysterious things have been spotted on the trails.  A pile of feathers\, a fluff of fur\, mysterious tracks….what is going on? Put your observation and deductive reasoning skills to the test as we study a hypothetical crime scene in the woods to try to answer the questions: what happened and who dunnit?! Together we will learn about animal adaptations\, how to identify tracks and scat\, and explore habitats to solve the riddle of the Mystery on the Trails. \n\n\n\nPlease come dressed for the outdoors\, including closed-toe shoes. This is a drop-off class. Parents and siblings are welcome to explore the Arboretum’s grounds on their own. \n\n\n\nRegistration for Arboretum Members opens Tuesday\, August 8. Nonmember registration opens Tuesday\, August 15. \n\n\n\n\nsold out
URL:https://houstonarboretum.org/event/csi-mystery-on-the-trails/
CATEGORIES:Children’s Programs
ATTACH;FMTTYPE=image/jpeg:https://houstonarboretum.org/wp-content/uploads/2023/07/Crime-Scene.jpg
END:VEVENT
BEGIN:VEVENT
DTSTART;TZID=America/Chicago:20230506T100000
DTEND;TZID=America/Chicago:20230506T120000
DTSTAMP:20260421T032231
CREATED:20230511T234338Z
LAST-MODIFIED:20230511T234339Z
UID:10000567-1683367200-1683374400@houstonarboretum.org
SUMMARY:Art & Nature: Earth\, Wind\, Fire\, Water
DESCRIPTION:$20 member / $30 nonmemberInstructor: Patti BonninAges 7-12 \nExplore the connections between art and nature as we use the world around us for creative inspiration. Students will practice different art techniques while incorporating the four natural elements of earth\, wind\, fire\, and water into their designs. \nPlease come dressed for the outdoors\, including closed-toe shoes. This is a drop-off class. Parents and siblings are welcome to explore the Arboretum’s grounds on their own. \nRegistration for Arboretum Members will open on Tuesday\, December 6. Nonmember registration will open on Tuesday\, December 13.  \n*Family Tree membership or above is required for member discount. \n\n\n\nRegister Online
URL:https://houstonarboretum.org/event/art-nature-earth-wind-fire-water/
CATEGORIES:Children’s Programs
ATTACH;FMTTYPE=image/jpeg:https://houstonarboretum.org/wp-content/uploads/2023/05/EarthWindFireWater-1536x571-1.jpg
END:VEVENT
BEGIN:VEVENT
DTSTART;TZID=America/Chicago:20220813T100000
DTEND;TZID=America/Chicago:20220813T120000
DTSTAMP:20260421T032231
CREATED:20220411T211110Z
LAST-MODIFIED:20220411T211110Z
UID:10000487-1660384800-1660392000@houstonarboretum.org
SUMMARY:When Nature Attacks
DESCRIPTION:$20 member / $30 nonmember per child Instructor: Patti Bonnin Ages 5-10 \n\n\n\nVenomous snakes? Poisonous plants? Animals that spit\, vomit\, or spray? Nature knows how to protect itself from potential dangers. Join us as we learn what happens when nature attacks back! Learn how to identify venomous snakes and poisonous plants here at the Arboretum\, make a coral snake keychain\, and practice your aim spraying would-be predators.   \n\n\n\n\nRegister Online\n\n\n\n\nPlease come dressed for the outdoors\, including closed-toe shoes. This is a drop-off class. Parents and siblings are welcome to explore the Arboretum’s grounds on their own. 
URL:https://houstonarboretum.org/event/when-nature-attacks-2/
CATEGORIES:Children’s Programs
ATTACH;FMTTYPE=:
END:VEVENT
BEGIN:VEVENT
DTSTART;TZID=America/Chicago:20220730T100000
DTEND;TZID=America/Chicago:20220730T120000
DTSTAMP:20260421T032231
CREATED:20220411T210100Z
LAST-MODIFIED:20220411T210100Z
UID:10000486-1659175200-1659182400@houstonarboretum.org
SUMMARY:Woodland Wizards
DESCRIPTION:$20 member / $30 nonmember per child Instructor: Patti Bonnin Ages 5-10 \n\n\n\nWe are celebrating Harry Potter’s birthday with our own Woodland Wizards program! Study herbology\, decorate your own wand\, try the jelly bean challenge\, and practice your potions. Then join Professor Patti on a scavenger hunt through the Forbidden Forest. Come dressed as your favorite witch\, wizard\, or muggle! (Costumes encouraged but not required.)  \n\n\n\n\nRegister Online\n\n\n\n\nPlease come dressed for the outdoors\, including closed-toe shoes. This is a drop-off class. Parents and siblings are welcome to explore the Arboretum’s grounds on their own.
URL:https://houstonarboretum.org/event/woodland-wizards-2/
CATEGORIES:Children’s Programs
ATTACH;FMTTYPE=image/jpeg:https://houstonarboretum.org/wp-content/uploads/2020/12/harry-potter-1640525_1920.jpg
END:VEVENT
BEGIN:VEVENT
DTSTART;TZID=America/Chicago:20220709T100000
DTEND;TZID=America/Chicago:20220709T120000
DTSTAMP:20260421T032231
CREATED:20220411T205453Z
LAST-MODIFIED:20220411T205453Z
UID:10000485-1657360800-1657368000@houstonarboretum.org
SUMMARY:Fantastic Creatures
DESCRIPTION:$20 member / $30 nonmember per child Instructor: Patti Bonnin Ages 7-12 \n\n\n\nHave you considered a career in magizoology (the study of magical creatures?) If so\, Fantastic Creatures is for you! Join fellow hunters as we learn about fantastic creatures that dwell here at the Arboretum and compare them to magical beasts. We will study their survival tactics\, explore their habitats\, and even create our own Fantastic Creature! \n\n\n\n\nRegister Online\n\n\n\n\nPlease come dressed for the outdoors\, including closed-toe shoes. This is a drop-off class. Parents and siblings are welcome to explore the Arboretum’s grounds on their own.
URL:https://houstonarboretum.org/event/fantastic-creatures/
CATEGORIES:Children’s Programs
END:VEVENT
BEGIN:VEVENT
DTSTART;TZID=America/Chicago:20220305T100000
DTEND;TZID=America/Chicago:20220305T120000
DTSTAMP:20260421T032231
CREATED:20211208T231033Z
LAST-MODIFIED:20211208T231033Z
UID:10000443-1646474400-1646481600@houstonarboretum.org
SUMMARY:Art & Nature
DESCRIPTION:$20 member / $30 nonmember (per child)Instructor: Patti BonninAges 5-12 \n\n\n\nNature is full of brilliant colors\, delicate patterns\, and bold designs. Explore the connections between art and nature as we use the world around us for creative inspiration. Go for a hike to study Arboretum organisms and incorporate what we observe in our works of art! We will even use natural materials like charcoal!  \n\n\n\nPlease come dressed for the outdoors\, including closed-toe shoes. This is a drop-off class. Parents and siblings are welcome to explore the Arboretum’s grounds on their own. \n\n\n\nThis class has SOLD OUT. A waitlist is available until filled.  \n\n\n\n\nWaitlist
URL:https://houstonarboretum.org/event/art-nature/
CATEGORIES:Children’s Programs
ATTACH;FMTTYPE=:
END:VEVENT
BEGIN:VEVENT
DTSTART;TZID=America/Chicago:20220219T093000
DTEND;TZID=America/Chicago:20220219T113000
DTSTAMP:20260421T032231
CREATED:20211208T230222Z
LAST-MODIFIED:20211208T230222Z
UID:10000442-1645263000-1645270200@houstonarboretum.org
SUMMARY:Bunnies & Bagels
DESCRIPTION:$20 member / $30 nonmember (per child)Instructor: Patti BonninAges 5-10 \n\n\n\nHop on over to the Arboretum for bagels and bunnies! Discover fun facts about our native rabbits and examine biofacts before heading out on the trails in search of rabbit tracks\, scat\, and burrows. Make your very own rabbit scat model to take home!  \n\n\n\nPlease come dressed for the outdoors\, including closed-toe shoes. This is a drop-off class. Parents and siblings are welcome to explore the Arboretum’s grounds on their own. \n\n\n\n\nRegister Online
URL:https://houstonarboretum.org/event/bunnies-bagels/
CATEGORIES:Children’s Programs
END:VEVENT
BEGIN:VEVENT
DTSTART;TZID=America/Chicago:20211113T100000
DTEND;TZID=America/Chicago:20211113T120000
DTSTAMP:20260421T032231
CREATED:20210806T162747Z
LAST-MODIFIED:20210806T162747Z
UID:10000402-1636797600-1636804800@houstonarboretum.org
SUMMARY:Animal Architects
DESCRIPTION:Children’s Program \n\n\n\n\n\n\n\n\n\n$15 member / $25 nonmember (per child)Instructor Patti BonninAges 5-8 \n\n\n\n Registration opens on Tuesday\, August 10 at 9 am for Arboretum Members. Nonmember registration opens Tuesday\, August 17.  \n\n\n\nThis class has SOLD OUT. A waitlist will be available until full.  \n\n\n\n\nWaitlist\n\n\n\n\nHumans are not the only animals who build beautiful\, intricate homes. The animal kingdom is full of amazing architects who build their homes using items found in nature. Learn about the amazing structures built by creatures big and small\, and practice your building skills as we engineer our own versions of animal homes. \n\n\n\nThis program has indoor and outdoor components. Please come dressed for the out of doors\, including closed-toe shoes. \n\n\n\nThis is a drop-off class. Parents and siblings are welcome to explore the Arboretum’s grounds on their own during class.
URL:https://houstonarboretum.org/event/animal-architects/
CATEGORIES:Children’s Programs
ATTACH;FMTTYPE=:
END:VEVENT
BEGIN:VEVENT
DTSTART;TZID=America/Chicago:20211023T100000
DTEND;TZID=America/Chicago:20211023T160000
DTSTAMP:20260421T032231
CREATED:20210814T195613Z
LAST-MODIFIED:20230724T162119Z
UID:10000406-1634983200-1635004800@houstonarboretum.org
SUMMARY:ArBOOretum
DESCRIPTION:Last entry is 3:15 p.m. \n\n\n\nFREE for Arboretum Members and children under 3No registration necessary for Members and children under 3 \n\n\n\n\nBecome a Member\n\n\n\n\n$15 online presale for nonmembers ages 3 and up $20 for nonmembers ages 3 and up at the door* \n\n\n\n*We will only be accepting credit and debit card payments for ticket sales at the door. \n\n\n\n\nOnline Presale\n\n\n\nPresale closes October 22nd at noon. Don’t delay! \n\n\nNo pets\, please. This event is rain or shine. \n\n\n\nGrab your costumes and get the kids together for the Arboretum’s biggest family event of the year! ArBOOretum features fun fall activities for all ages including live animals\, pumpkin decorating\, and Houston’s only Trick-or-Treat Nature Trail. Enjoy these fall classics and so much more! \n\n\n\nFeatured activities: \n\n\n\n\nTrick-or-Treat Nature Trail\n\n\n\nTrain Rides\n\n\n\nPumpkin Decorating\n\n\n\nPetting Zoo & Pony Rides\n\n\n\nHalloween Market\n\n\n\nPumpkin Patch\n\n\n\nRock Wall\n\n\n\n\nComfortable walking shoes and costumes are encouraged! All activities are included with ticket price. \n\n\n\nThis event is rain or shine. If the event is cancelled\, ticket price is considered a donation to the Arboretum. Tickets are non-refundable. \n\n\n\nFood Trucks \n\n\n\n\nForeign Policy\n\n\n\nChalu’s Wings\n\n\n\nOff The Leash Hot Dogs\n\n\n\nUncle Louie G’s Italian Ice\n\n\n\nRoco’s Grill & Smokehouse\n\n\n\n\nParking \n\n\n\nThe Arboretum grounds will be closed to parking for ArBOOretum. Offsite parking at 1001 W Loop S will be available the day of the event. Ride sharing is also encouraged. \n\n\n\nLimited handicap parking will be available at the Woodway Entrance.  \n\n\n\n\nBecome a Sponsor\n\n\n\n\nArBOOretum is generously sponsored by:
URL:https://houstonarboretum.org/event/arbooretum-old/
CATEGORIES:Children’s Programs,Special Events
ATTACH;FMTTYPE=:
END:VEVENT
BEGIN:VEVENT
DTSTART;TZID=America/Chicago:20211002T130000
DTEND;TZID=America/Chicago:20211002T150000
DTSTAMP:20260421T032231
CREATED:20210806T161053Z
LAST-MODIFIED:20230726T205642Z
UID:10000401-1633179600-1633186800@houstonarboretum.org
SUMMARY:CSI: Mystery on the Trails
DESCRIPTION:Children’s Program \n\n\n\n\n\n\n\n\n\n$15 member / $25 nonmember (per child)Instructor Patti BonninAges 7-12 \n\n\n\nRegistration opens on Tuesday\, August 10 at 9 am for Arboretum Members. Nonmember registration opens Tuesday\, August 17. \n\n\n\nClass has SOLD OUT. A waitlist will be available until full.  \n\n\n\n\nWaitlist\n\n\n\n\nMysterious things have been spotted on the trails. A pile of feathers\, a fluff of fur\, mysterious tracks….what is going on? Put your observation and deductive reasoning skills to the test as we study a hypothetical crime scene in the woods to try to answer the questions: what happened and who dunnit?! Together we will learn about animal adaptations\, how to identify tracks and scat\, and explore habitats to solve the riddle of the Mystery on the Trails. \n\n\n\nPlease come dressed for the out of doors\, including closed-toe shoes. \n\n\n\nThis is a drop-off class. Parents and siblings are welcome to explore the Arboretum’s grounds on their own during class.
URL:https://houstonarboretum.org/event/csi-mystery-on-the-trails-old/
CATEGORIES:Children’s Programs
ATTACH;FMTTYPE=:
END:VEVENT
BEGIN:VEVENT
DTSTART;TZID=America/Chicago:20210814T130000
DTEND;TZID=America/Chicago:20210814T150000
DTSTAMP:20260421T032231
CREATED:20210417T235644Z
LAST-MODIFIED:20210417T235644Z
UID:10000341-1628946000-1628953200@houstonarboretum.org
SUMMARY:When Nature Attacks
DESCRIPTION:Children’s Program\n\n\n\n\n\n\n\n\n\n$15 member / $25 nonmember per childInstructor: Patti BonninAges 5-10 \n\n\n\n\nSOLD OUT\n\n\n\n\nVenomous snakes? Poisonous plants? Animals that spit\, vomit\, or spray? Nature knows how to protect itself from potential dangers. Join us as we learn what happens when nature attacks back! Learn how to identify venomous snakes and poisonous plants here at the Arboretum\, make a coral snake keychain\, and practice your aim spraying would-be predators.
URL:https://houstonarboretum.org/event/when-nature-attacks/
CATEGORIES:Children’s Programs
END:VEVENT
BEGIN:VEVENT
DTSTART;TZID=America/Chicago:20210731T100000
DTEND;TZID=America/Chicago:20210731T120000
DTSTAMP:20260421T032231
CREATED:20210417T235258Z
LAST-MODIFIED:20210417T235258Z
UID:10000340-1627725600-1627732800@houstonarboretum.org
SUMMARY:Woodland Wizards
DESCRIPTION:Children’s Program\n\n\n\n\n\n\n\n\n\n$15 member / $25 nonmember per childInstructor: Patti BonninAges 5-10 \n\n\nThis class has SOLD OUT. A waitlist is available until full. Also\, check out our next class When Nature Attacks! \n\n\n\nWaitlist\n\n\n\n\nWe are celebrating Harry Potter’s birthday with our own Woodland Wizards program! Study herbology\, create your own magical creature\, try the jelly bean challenge\, and practice your potions. Then join Professor Patti on a scavenger hunt through the Forbidden Forest. Come dressed as your favorite witch\, wizard\, or muggle! (Costumes encouraged but not required.)
URL:https://houstonarboretum.org/event/woodland-wizards-july/
CATEGORIES:Children’s Programs
ATTACH;FMTTYPE=image/jpeg:https://houstonarboretum.org/wp-content/uploads/2020/12/harry-potter-1640525_1920.jpg
END:VEVENT
BEGIN:VEVENT
DTSTART;TZID=America/Chicago:20210502T130000
DTEND;TZID=America/Chicago:20210502T150000
DTSTAMP:20260421T032231
CREATED:20201210T004654Z
LAST-MODIFIED:20230726T210612Z
UID:10000289-1619960400-1619967600@houstonarboretum.org
SUMMARY:Woodland Wizards
DESCRIPTION:Children’s Program\n\n\n\n\n\n\n\n\nIn-person \n$15 member / $25 nonmember per childAges 5-10 \nThis class has SOLD OUT! Check out our next Woodland Wizards class on July 31\, 2021! \n[divider] \nCelebrate International Harry Potter Day with our own Woodland Wizards program! Create your own magical creature\, mix up bubbly potions\, and decorate your own wand! We will go for a hike in the Forbidden Forest and learn about the woodland creatures that dwell there. Come dressed as your favorite witch\, wizard\, or muggle! (Costumes encouraged but not required.)
URL:https://houstonarboretum.org/event/woodland-wizards-old/
CATEGORIES:Children’s Programs
ATTACH;FMTTYPE=image/jpeg:https://houstonarboretum.org/wp-content/uploads/2020/12/harry-potter-1640525_1920.jpg
END:VEVENT
END:VCALENDAR