BEGIN:VCALENDAR
VERSION:2.0
PRODID:-//Houston Arboretum &amp; Nature Center - ECPv6.15.20//NONSGML v1.0//EN
CALSCALE:GREGORIAN
METHOD:PUBLISH
X-WR-CALNAME:Houston Arboretum &amp; Nature Center
X-ORIGINAL-URL:https://houstonarboretum.org
X-WR-CALDESC:Events for Houston Arboretum &amp; Nature Center
REFRESH-INTERVAL;VALUE=DURATION:PT1H
X-Robots-Tag:noindex
X-PUBLISHED-TTL:PT1H
BEGIN:VTIMEZONE
TZID:America/Chicago
BEGIN:DAYLIGHT
TZOFFSETFROM:-0600
TZOFFSETTO:-0500
TZNAME:CDT
DTSTART:20230312T080000
END:DAYLIGHT
BEGIN:STANDARD
TZOFFSETFROM:-0500
TZOFFSETTO:-0600
TZNAME:CST
DTSTART:20231105T070000
END:STANDARD
BEGIN:DAYLIGHT
TZOFFSETFROM:-0600
TZOFFSETTO:-0500
TZNAME:CDT
DTSTART:20240310T080000
END:DAYLIGHT
BEGIN:STANDARD
TZOFFSETFROM:-0500
TZOFFSETTO:-0600
TZNAME:CST
DTSTART:20241103T070000
END:STANDARD
BEGIN:DAYLIGHT
TZOFFSETFROM:-0600
TZOFFSETTO:-0500
TZNAME:CDT
DTSTART:20250309T080000
END:DAYLIGHT
BEGIN:STANDARD
TZOFFSETFROM:-0500
TZOFFSETTO:-0600
TZNAME:CST
DTSTART:20251102T070000
END:STANDARD
END:VTIMEZONE
BEGIN:VEVENT
DTSTART;TZID=America/Chicago:20240323T110000
DTEND;TZID=America/Chicago:20240323T120000
DTSTAMP:20260421T034555
CREATED:20240205T145807Z
LAST-MODIFIED:20240205T145809Z
UID:10000859-1711191600-1711195200@houstonarboretum.org
SUMMARY:Harp & Hula: Music & Dance from Hawaii
DESCRIPTION:$8 per personInstructor: Ocean Music ActionAll ages \n\n\n\nJoin harpist Megan Conley and friends for a children’s program of music highlighting animals from the ocean\, land\, and sky of the Hawaiian Islands. Children will hear music from the islands and learn the art of hula\, integrating music\, movement\, and storytelling into a beautiful dance. \n\n\n\n\nregister online\n\n\n\n\n\n\n\n\nPlease come dressed for the outdoors\, including closed-toe shoes. This is a family program; parents are required to attend program with children.
URL:https://houstonarboretum.org/event/harp-hula-music-dance-from-hawaii/
CATEGORIES:Family Programs
ATTACH;FMTTYPE=image/jpeg:https://houstonarboretum.org/wp-content/uploads/2024/02/Ocean-Music-Action-Anthony-Rathbun.jpg
END:VEVENT
END:VCALENDAR