BEGIN:VCALENDAR
VERSION:2.0
PRODID:-//Houston Arboretum &amp; Nature Center - ECPv6.15.20//NONSGML v1.0//EN
CALSCALE:GREGORIAN
METHOD:PUBLISH
X-ORIGINAL-URL:https://houstonarboretum.org
X-WR-CALDESC:Events for Houston Arboretum &amp; Nature Center
REFRESH-INTERVAL;VALUE=DURATION:PT1H
X-Robots-Tag:noindex
X-PUBLISHED-TTL:PT1H
BEGIN:VTIMEZONE
TZID:America/Chicago
BEGIN:DAYLIGHT
TZOFFSETFROM:-0600
TZOFFSETTO:-0500
TZNAME:CDT
DTSTART:20250309T080000
END:DAYLIGHT
BEGIN:STANDARD
TZOFFSETFROM:-0500
TZOFFSETTO:-0600
TZNAME:CST
DTSTART:20251102T070000
END:STANDARD
BEGIN:DAYLIGHT
TZOFFSETFROM:-0600
TZOFFSETTO:-0500
TZNAME:CDT
DTSTART:20260308T080000
END:DAYLIGHT
BEGIN:STANDARD
TZOFFSETFROM:-0500
TZOFFSETTO:-0600
TZNAME:CST
DTSTART:20261101T070000
END:STANDARD
BEGIN:DAYLIGHT
TZOFFSETFROM:-0600
TZOFFSETTO:-0500
TZNAME:CDT
DTSTART:20270314T080000
END:DAYLIGHT
BEGIN:STANDARD
TZOFFSETFROM:-0500
TZOFFSETTO:-0600
TZNAME:CST
DTSTART:20271107T070000
END:STANDARD
END:VTIMEZONE
BEGIN:VEVENT
DTSTART;TZID=America/Chicago:20260515T173000
DTEND;TZID=America/Chicago:20260515T193000
DTSTAMP:20260421T080853
CREATED:20231208T175731Z
LAST-MODIFIED:20251208T213042Z
UID:10000761-1778866200-1778873400@houstonarboretum.org
SUMMARY:Sip & St(ROLL)
DESCRIPTION:$40 members / $45 nonmembersAges 21+ \n\n\n\nJoin us for an accessible hike out on the Arboretum trails. This hike is a ¾ mile trail that consists of boardwalks\, decomposed granite trails\, metal grates\, and paved concrete. Your sunset st(roll) will include a curated nature trail\, two glasses of wine or Saint Arnold beer\, and tasty happy hour treats. \n\n\n\n\nregister online\n\n\n\n\n\n\n\n\nLearn more about accessibility initiatives and services at the Arboretum by visiting our Accessibility page.  \n\n\n\nTo request additional accommodations\, please contact Chasmine Anderson at canderson@houstonarboretum.org. \n\n\n\n\n\n\n\ndietary options\n\n\n\nBites provided at the event may include allergens such as meat\, dairy\, gluten\, and nuts. Requests for dietary accommodations can be added during registration. Please note that dietary requests can be guaranteed up to 72 hours before the event. Any registrations or requests submitted after that timeframe cannot guarantee alternative options. \n\n\n\n\n\n\n\nparking\n\n\n\nParking is free for all Arboretum Members\, but you must enter your Member parking code in the kiosks or on the Park Mobile or Park Houston apps. Nonmembers must pay a $6.50 parking fee which directly supports the Arboretum’s mission of nature education and conservation. All guests are subject to ticketing if they do not enter their Member parking code or pay the parking fee. Please do not leave valuables in your car. Outside restrooms are located at the Nature Center building. \n\n\n\n\n\n\n\nrain date & cancellations\n\n\n\nThis event is rain or shine\, but should flooding occur\, the rain date is Friday\, May 22. No refunds will be processed unless the event is completely cancelled. \n\n\n\n\n\n\n\nsponsors
URL:https://houstonarboretum.org/event/accessible-sip-and-stroll/
CATEGORIES:Adult Programs,Food & Drink,Sip & Stroll,Special Events
ATTACH;FMTTYPE=image/jpeg:https://houstonarboretum.org/wp-content/uploads/2024/12/Sip-and-Stroll-1280x720-1.jpg
END:VEVENT
END:VCALENDAR